DSET ^gfs.globl.b20121028_00z.e20121102_00z.data
TITLE Stats FORMAT sequential big_endian
UNDEF 0.100000E+16
XDEF 144 LINEAR -180 2.50000
YDEF 91 LINEAR -90 2.00000
ZDEF 10 LEVELS 1000.00 850.00 700.00 500.00 400.00 300.00 250.00 200.00 150.00 100.00
TDEF 21 LINEAR 00:00Z28OCT2012 06hr
VARS 18
pf 0 0 Sea Level Pressure
uf 10 0 Zonal U-Wind
vf 10 0 Meridional V-Wind
tf 10 0 Temperature
qf 10 0 Specific Humidity
hf 10 0 Height
pa 0 0 Sea Level Pressure
ua 10 0 Zonal U-Wind
va 10 0 Meridional V-Wind
ta 10 0 Temperature
qa 10 0 Specific Humidity
ha 10 0 Height
pc 0 0 Sea Level Pressure
uc 10 0 Zonal U-Wind
vc 10 0 Meridional V-Wind
tc 10 0 Temperature
qc 10 0 Specific Humidity
hc 10 0 Height
ENDVARS
